BEGIN:VCALENDAR
VERSION:2.0
PRODID:-//Základní umělecká škola Česká Kamenice - ECPv6.15.13.1//NONSGML v1.0//EN
CALSCALE:GREGORIAN
METHOD:PUBLISH
X-ORIGINAL-URL:https://www.zusck.cz
X-WR-CALDESC:Akce na Základní umělecká škola Česká Kamenice
REFRESH-INTERVAL;VALUE=DURATION:PT1H
X-Robots-Tag:noindex
X-PUBLISHED-TTL:PT1H
BEGIN:VTIMEZONE
TZID:Europe/Prague
BEGIN:DAYLIGHT
TZOFFSETFROM:+0100
TZOFFSETTO:+0200
TZNAME:CEST
DTSTART:20210328T010000
END:DAYLIGHT
BEGIN:STANDARD
TZOFFSETFROM:+0200
TZOFFSETTO:+0100
TZNAME:CET
DTSTART:20211031T010000
END:STANDARD
BEGIN:DAYLIGHT
TZOFFSETFROM:+0100
TZOFFSETTO:+0200
TZNAME:CEST
DTSTART:20220327T010000
END:DAYLIGHT
BEGIN:STANDARD
TZOFFSETFROM:+0200
TZOFFSETTO:+0100
TZNAME:CET
DTSTART:20221030T010000
END:STANDARD
BEGIN:DAYLIGHT
TZOFFSETFROM:+0100
TZOFFSETTO:+0200
TZNAME:CEST
DTSTART:20230326T010000
END:DAYLIGHT
BEGIN:STANDARD
TZOFFSETFROM:+0200
TZOFFSETTO:+0100
TZNAME:CET
DTSTART:20231029T010000
END:STANDARD
BEGIN:DAYLIGHT
TZOFFSETFROM:+0100
TZOFFSETTO:+0200
TZNAME:CEST
DTSTART:20240331T010000
END:DAYLIGHT
BEGIN:STANDARD
TZOFFSETFROM:+0200
TZOFFSETTO:+0100
TZNAME:CET
DTSTART:20241027T010000
END:STANDARD
BEGIN:DAYLIGHT
TZOFFSETFROM:+0100
TZOFFSETTO:+0200
TZNAME:CEST
DTSTART:20250330T010000
END:DAYLIGHT
BEGIN:STANDARD
TZOFFSETFROM:+0200
TZOFFSETTO:+0100
TZNAME:CET
DTSTART:20251026T010000
END:STANDARD
END:VTIMEZONE
BEGIN:VEVENT
DTSTART;TZID=Europe/Prague:20240528T090000
DTEND;TZID=Europe/Prague:20240528T180000
DTSTAMP:20260425T175645
CREATED:20240507T105138Z
LAST-MODIFIED:20240507T105140Z
UID:3541-1716886800-1716919200@www.zusck.cz
SUMMARY:Smetana 200
DESCRIPTION:Komponovaný pořad učitelů a žáků naší školy k výročí Bedřicha Smetany. Dopoledne dvě vystoupení pro školy\, odpoledne pro veřejnost.
URL:https://www.zusck.cz/udalost/smetana-200/
LOCATION:Dům kultury Česká Kamenice\, Komenského 288\, Česká Kamenice\, Ústecký kraj\, 40721\, Česká republika
ATTACH;FMTTYPE=image/jpeg:https://www.zusck.cz/wp-content/uploads/2024/05/1.jpeg
END:VEVENT
BEGIN:VEVENT
DTSTART;TZID=Europe/Prague:20240517T193000
DTEND;TZID=Europe/Prague:20240517T203000
DTSTAMP:20260425T175645
CREATED:20240507T104926Z
LAST-MODIFIED:20240514T133112Z
UID:3539-1715974200-1715977800@www.zusck.cz
SUMMARY:Absolventský koncert
DESCRIPTION:Absolventský koncert Karolíny Marie Duchkové z pěvecké třídy Hany Kružíkové.
URL:https://www.zusck.cz/udalost/absolventsky-koncert-3/
LOCATION:Dům kultury Česká Kamenice\, Komenského 288\, Česká Kamenice\, Ústecký kraj\, 40721\, Česká republika
ATTACH;FMTTYPE=image/jpeg:https://www.zusck.cz/wp-content/uploads/2024/05/Scan2024-05-14_134320.jpg
END:VEVENT
BEGIN:VEVENT
DTSTART;TZID=Europe/Prague:20240517T160000
DTEND;TZID=Europe/Prague:20240517T200000
DTSTAMP:20260425T175645
CREATED:20240507T104525Z
LAST-MODIFIED:20240507T104526Z
UID:3534-1715961600-1715976000@www.zusck.cz
SUMMARY:ZUŠFEST
DESCRIPTION:Vystoupení kapel\, souborů a sborů\, výtvarný happenig a mnoho dalšího\,…ale hlavně křest CD našich kapel! \n\n\n\n \n\n\n\nPozn. V případě nepříznivého počasí se akce přesouvá do Domu kultury. Program bude upraven tak\, aby neohrozil následující akci.
URL:https://www.zusck.cz/udalost/zusfest/
LOCATION:Park Franze Preidla\, Nerudova\, Česká Kamenice\, 407 21
ATTACH;FMTTYPE=image/jpeg:https://www.zusck.cz/wp-content/uploads/2024/05/image1.jpeg
END:VEVENT
BEGIN:VEVENT
DTSTART;TZID=Europe/Prague:20240514T170000
DTEND;TZID=Europe/Prague:20240514T180000
DTSTAMP:20260425T175645
CREATED:20240507T104224Z
LAST-MODIFIED:20240507T104226Z
UID:3530-1715706000-1715709600@www.zusck.cz
SUMMARY:Vernisáž a výstava VO "Pod hladinou"
DESCRIPTION:
URL:https://www.zusck.cz/udalost/vernisaz-a-vystava-vo-pod-hladinou/
LOCATION:Infocentrum Česká Kamenice\, náměstí Míru\, Česká Kamenice\, 407 21
ATTACH;FMTTYPE=image/jpeg:https://www.zusck.cz/wp-content/uploads/2024/04/CESKOKAMENICKO_OCIMA_MLADEHO_VYTVARNIKA.jpg
END:VEVENT
BEGIN:VEVENT
DTSTART;TZID=Europe/Prague:20240513T163000
DTEND;TZID=Europe/Prague:20240513T180000
DTSTAMP:20260425T175645
CREATED:20240507T104025Z
LAST-MODIFIED:20240507T104026Z
UID:3528-1715617800-1715623200@www.zusck.cz
SUMMARY:Vystoupení HPV a tanečního oboru
DESCRIPTION:
URL:https://www.zusck.cz/udalost/vystoupeni-hpv-a-tanecniho-oboru/
LOCATION:Dům kultury Česká Kamenice\, Komenského 288\, Česká Kamenice\, Ústecký kraj\, 40721\, Česká republika
ATTACH;FMTTYPE=image/jpeg:https://www.zusck.cz/wp-content/uploads/2024/05/Predstaveni-Tanecniho-oboru-a-HPV.jpeg
END:VEVENT
BEGIN:VEVENT
DTSTART;TZID=Europe/Prague:20240507T163000
DTEND;TZID=Europe/Prague:20240507T173000
DTSTAMP:20260425T175645
CREATED:20240507T103836Z
LAST-MODIFIED:20240507T103847Z
UID:3524-1715099400-1715103000@www.zusck.cz
SUMMARY:Absolventský koncert
DESCRIPTION:Absolventský koncert Kristýny Kalouskové z pěvecké třídy p. učitelky Hany Kružíkové.
URL:https://www.zusck.cz/udalost/absolventsky-koncert-2/
LOCATION:Dům kultury Česká Kamenice\, Komenského 288\, Česká Kamenice\, Ústecký kraj\, 40721\, Česká republika
ATTACH;FMTTYPE=image/jpeg:https://www.zusck.cz/wp-content/uploads/2024/05/Kalouskova.jpg
END:VEVENT
BEGIN:VEVENT
DTSTART;TZID=Europe/Prague:20240123T170000
DTEND;TZID=Europe/Prague:20240123T180000
DTSTAMP:20260425T175645
CREATED:20240108T130159Z
LAST-MODIFIED:20240108T130200Z
UID:3057-1706029200-1706032800@www.zusck.cz
SUMMARY:Koncert kapel
DESCRIPTION:Společný koncert kapel Duhová nota\, Zušáci a Hraje to! na sále Obecního úřadu v Markvarticích.
URL:https://www.zusck.cz/udalost/koncert-kapel-3/
LOCATION:Markvartice\, okres Děčín\, 280\, Markvartice\, Česká republika
ATTACH;FMTTYPE=image/png:https://www.zusck.cz/wp-content/uploads/2024/01/Snimek-obrazovky-2024-01-08-134250.png
ORGANIZER;CN="Z%C3%A1kladn%C3%AD um%C4%9Bleck%C3%A1 %C5%A1kola %C4%8Cesk%C3%A1 Kamenice":MAILTO:zus@zusck.cz
END:VEVENT
BEGIN:VEVENT
DTSTART;TZID=Europe/Prague:20231217T150000
DTEND;TZID=Europe/Prague:20231217T153000
DTSTAMP:20260425T175645
CREATED:20231204T115312Z
LAST-MODIFIED:20231204T115313Z
UID:2842-1702825200-1702827000@www.zusck.cz
SUMMARY:Adventní koncert
DESCRIPTION:Adventní vystoupení žáků ZUŠ v kostele Sv. Jakuba Většího.
URL:https://www.zusck.cz/udalost/adventni-koncert/
LOCATION:kostel Sv. Jakuba Většího Česká Kamenice
END:VEVENT
BEGIN:VEVENT
DTSTART;TZID=Europe/Prague:20231212T163000
DTEND;TZID=Europe/Prague:20231212T180000
DTSTAMP:20260425T175645
CREATED:20231204T115110Z
LAST-MODIFIED:20231204T115111Z
UID:2840-1702398600-1702404000@www.zusck.cz
SUMMARY:Vánoční koncert
DESCRIPTION:Vánoční vystoupení žáků ZUŠ.
URL:https://www.zusck.cz/udalost/vanocni-koncert/
LOCATION:Dům kultury Česká Kamenice\, Komenského 288\, Česká Kamenice\, Ústecký kraj\, 40721\, Česká republika
END:VEVENT
BEGIN:VEVENT
DTSTART;TZID=Europe/Prague:20231205T160000
DTEND;TZID=Europe/Prague:20231205T163000
DTSTAMP:20260425T175645
CREATED:20231204T120542Z
LAST-MODIFIED:20231204T120543Z
UID:2847-1701792000-1701793800@www.zusck.cz
SUMMARY:Zušáci na Mikulášské
DESCRIPTION:Vystoupení Zušáků na náměstí v rámci Mikulášské.
URL:https://www.zusck.cz/udalost/zusaci-na-mikulasske/
LOCATION:náměstí Míru\, Česká Kamenice\, náměstí Míru\, Česká Kamenice\, 407 21\, Česká republika
END:VEVENT
BEGIN:VEVENT
DTSTART;TZID=Europe/Prague:20231204T170000
DTEND;TZID=Europe/Prague:20231204T180000
DTSTAMP:20260425T175645
CREATED:20231204T091421Z
LAST-MODIFIED:20231204T091423Z
UID:2838-1701709200-1701712800@www.zusck.cz
SUMMARY:Roztančené odpoledne
DESCRIPTION:
URL:https://www.zusck.cz/udalost/roztancene-odpoledne/
LOCATION:Dům kultury Česká Kamenice\, Komenského 288\, Česká Kamenice\, Ústecký kraj\, 40721\, Česká republika
ORGANIZER;CN="Z%C3%A1kladn%C3%AD um%C4%9Bleck%C3%A1 %C5%A1kola %C4%8Cesk%C3%A1 Kamenice":MAILTO:zus@zusck.cz
END:VEVENT
BEGIN:VEVENT
DTSTART;TZID=Europe/Prague:20230609T180000
DTEND;TZID=Europe/Prague:20230609T190000
DTSTAMP:20260425T175645
CREATED:20230404T083525Z
LAST-MODIFIED:20230404T083822Z
UID:2222-1686333600-1686337200@www.zusck.cz
SUMMARY:Výstava prací žáků výtvarného oboru
DESCRIPTION:Vernisáž výstavy prací žáků z pobočky v Kamenickém Šenově. Výstava potrvá do 25. 6. 2023. Výstava potrvá do 25. 6. 2023.
URL:https://www.zusck.cz/udalost/vystava-praci-zaku-vytvarneho-oboru/
LOCATION:Ústecký kraj
ORGANIZER;CN="Z%C3%A1kladn%C3%AD um%C4%9Bleck%C3%A1 %C5%A1kola %C4%8Cesk%C3%A1 Kamenice":MAILTO:zus@zusck.cz
END:VEVENT
BEGIN:VEVENT
DTSTART;TZID=Europe/Prague:20230606T170000
DTEND;TZID=Europe/Prague:20230606T180000
DTSTAMP:20260425T175645
CREATED:20230404T083755Z
LAST-MODIFIED:20230404T083759Z
UID:2224-1686070800-1686074400@www.zusck.cz
SUMMARY:Výstava prací žáků výtvarného oboru
DESCRIPTION:Výstava prací žáků výtvarného oboru zuš v České Kamenici.
URL:https://www.zusck.cz/udalost/vystava-praci-zaku-vytvarneho-oboru-2/
LOCATION:Ústecký kraj
END:VEVENT
BEGIN:VEVENT
DTSTART;TZID=Europe/Prague:20230605T170000
DTEND;TZID=Europe/Prague:20230605T183000
DTSTAMP:20260425T175645
CREATED:20230404T084008Z
LAST-MODIFIED:20230404T084009Z
UID:2227-1685984400-1685989800@www.zusck.cz
SUMMARY:Vystoupení žáků HPV a TO
DESCRIPTION:Vystoupení žáků hudebně-pohybové výchovy a tanečního oboru z České Kamenice i pobočky v Kamenickém Šenově.
URL:https://www.zusck.cz/udalost/vystoupeni-zaku-hpv-a-to/
LOCATION:Dům kultury Česká Kamenice\, Komenského 288\, Česká Kamenice\, Ústecký kraj\, 40721\, Česká republika
ORGANIZER;CN="Z%C3%A1kladn%C3%AD um%C4%9Bleck%C3%A1 %C5%A1kola %C4%8Cesk%C3%A1 Kamenice":MAILTO:zus@zusck.cz
END:VEVENT
BEGIN:VEVENT
DTSTART;TZID=Europe/Prague:20230601T163000
DTEND;TZID=Europe/Prague:20230601T180000
DTSTAMP:20260425T175645
CREATED:20230404T084126Z
LAST-MODIFIED:20230404T084127Z
UID:2229-1685637000-1685642400@www.zusck.cz
SUMMARY:Koncert kapel
DESCRIPTION:Koncert kapel zuš – Duhová nota\, Zušáci\, Hraje to!
URL:https://www.zusck.cz/udalost/koncert-kapel-2/
LOCATION:Dům kultury Česká Kamenice\, Komenského 288\, Česká Kamenice\, Ústecký kraj\, 40721\, Česká republika
ORGANIZER;CN="Z%C3%A1kladn%C3%AD um%C4%9Bleck%C3%A1 %C5%A1kola %C4%8Cesk%C3%A1 Kamenice":MAILTO:zus@zusck.cz
END:VEVENT
BEGIN:VEVENT
DTSTART;TZID=Europe/Prague:20230528T130000
DTEND;TZID=Europe/Prague:20230528T170000
DTSTAMP:20260425T175645
CREATED:20230404T084251Z
LAST-MODIFIED:20230404T084252Z
UID:2231-1685278800-1685293200@www.zusck.cz
SUMMARY:Přijímací a postupové zkoušky
DESCRIPTION:Přijímací a postupové zkoušky v týdnu od 28. května do pátku 2. června.
URL:https://www.zusck.cz/udalost/prijimaci-a-postupove-zkousky/
LOCATION:Základní umělecká škola Česká Kamenice\, Komenského 481\, Česká Kamenice\, Česká republika
ORGANIZER;CN="Z%C3%A1kladn%C3%AD um%C4%9Bleck%C3%A1 %C5%A1kola %C4%8Cesk%C3%A1 Kamenice":MAILTO:zus@zusck.cz
END:VEVENT
BEGIN:VEVENT
DTSTART;TZID=Europe/Prague:20230521T080000
DTEND;TZID=Europe/Prague:20230521T170000
DTSTAMP:20260425T175645
CREATED:20230404T084554Z
LAST-MODIFIED:20230404T084555Z
UID:2235-1684656000-1684688400@www.zusck.cz
SUMMARY:OPEN ZUŠ
DESCRIPTION:Celostátní happening základních uměleckých škol. Potrvá do 4. června 2023.
URL:https://www.zusck.cz/udalost/open-zus-5/
LOCATION:Základní umělecká škola Česká Kamenice\, Komenského 481\, Česká Kamenice\, Česká republika
ORGANIZER;CN="Z%C3%A1kladn%C3%AD um%C4%9Bleck%C3%A1 %C5%A1kola %C4%8Cesk%C3%A1 Kamenice":MAILTO:zus@zusck.cz
END:VEVENT
BEGIN:VEVENT
DTSTART;TZID=Europe/Prague:20230519T143000
DTEND;TZID=Europe/Prague:20230519T153000
DTSTAMP:20260425T175645
CREATED:20230512T121503Z
LAST-MODIFIED:20230512T121503Z
UID:2301-1684506600-1684510200@www.zusck.cz
SUMMARY:Třídní schůzka rodičů dětí hudebně-pohybové výchovy
DESCRIPTION:Beseda učitelů s rodiči o dalším vzdělávání malých umělců.
URL:https://www.zusck.cz/udalost/tridni-schuzka-rodicu-deti-hudebne-pohybove-vychovy/
LOCATION:Ústecký kraj
ORGANIZER;CN="Z%C3%A1kladn%C3%AD um%C4%9Bleck%C3%A1 %C5%A1kola %C4%8Cesk%C3%A1 Kamenice":MAILTO:zus@zusck.cz
END:VEVENT
BEGIN:VEVENT
DTSTART;TZID=Europe/Prague:20230517T163000
DTEND;TZID=Europe/Prague:20230517T173000
DTSTAMP:20260425T175645
CREATED:20230404T084831Z
LAST-MODIFIED:20230404T084832Z
UID:2237-1684341000-1684344600@www.zusck.cz
SUMMARY:Klavírní recitál
DESCRIPTION:Recitál žáků klavírní třídy Mgr. Blanky Jíravové.
URL:https://www.zusck.cz/udalost/klavirni-recital/
LOCATION:Komunitní centrum Česká Kamenice\, zasedací místnost\, náměstí Míru 272\, Česká Kamenice\, Česká republika
ORGANIZER;CN="Z%C3%A1kladn%C3%AD um%C4%9Bleck%C3%A1 %C5%A1kola %C4%8Cesk%C3%A1 Kamenice":MAILTO:zus@zusck.cz
END:VEVENT
BEGIN:VEVENT
DTSTART;TZID=Europe/Prague:20230516T170000
DTEND;TZID=Europe/Prague:20230516T180000
DTSTAMP:20260425T175645
CREATED:20230404T084419Z
LAST-MODIFIED:20230426T070038Z
UID:2233-1684256400-1684260000@www.zusck.cz
SUMMARY:Výstava absolventů výtvarného oboru
DESCRIPTION:Výstava potrvá do 31. května 2023.
URL:https://www.zusck.cz/udalost/vystava-absolventu-vytvarneho-oboru/
LOCATION:Ústecký kraj
ORGANIZER;CN="Z%C3%A1kladn%C3%AD um%C4%9Bleck%C3%A1 %C5%A1kola %C4%8Cesk%C3%A1 Kamenice":MAILTO:zus@zusck.cz
END:VEVENT
BEGIN:VEVENT
DTSTART;TZID=Europe/Prague:20230502T180000
DTEND;TZID=Europe/Prague:20230502T190000
DTSTAMP:20260425T175645
CREATED:20230404T090259Z
LAST-MODIFIED:20230404T090300Z
UID:2241-1683050400-1683054000@www.zusck.cz
SUMMARY:Výstava "Českokamenicko očima mladého výtvarníka..."
DESCRIPTION:Vernisáž výstavy prací výtvarné soutěže vypisované naší školou\, vyhlášení výsledků soutěže a předání cen. Výstava potrvá do 25. června 2023.
URL:https://www.zusck.cz/udalost/vystava-ceskokamenicko-ocima-mladeho-vytvarnika/
LOCATION:Městská knihovna Česká Kamenice\, Komenského 481\, Česká Kamenice\, Ústecký kraj\, 40721\, Česká republika
ORGANIZER;CN="Z%C3%A1kladn%C3%AD um%C4%9Bleck%C3%A1 %C5%A1kola %C4%8Cesk%C3%A1 Kamenice":MAILTO:zus@zusck.cz
END:VEVENT
BEGIN:VEVENT
DTSTART;TZID=Europe/Prague:20230425T163000
DTEND;TZID=Europe/Prague:20230425T183000
DTSTAMP:20260425T175645
CREATED:20230111T083609Z
LAST-MODIFIED:20230111T083610Z
UID:2102-1682440200-1682447400@www.zusck.cz
SUMMARY:Jarní koncert
DESCRIPTION:
URL:https://www.zusck.cz/udalost/jarni-koncert/
LOCATION:Dům kultury Česká Kamenice\, Komenského 288\, Česká Kamenice\, Ústecký kraj\, 40721\, Česká republika
ATTACH;FMTTYPE=image/jpeg:https://www.zusck.cz/wp-content/uploads/2023/01/jaro_big.jpg
END:VEVENT
BEGIN:VEVENT
DTSTART;TZID=Europe/Prague:20230409T110000
DTEND;TZID=Europe/Prague:20230409T150000
DTSTAMP:20260425T175645
CREATED:20230111T084526Z
LAST-MODIFIED:20230313T081547Z
UID:2110-1681038000-1681052400@www.zusck.cz
SUMMARY:Den otevřených dveří
DESCRIPTION:Možnost prohlídky školy\, soutěž O nejhezčí kraslici\, kterou si budete moci vytvořit různými technikami ve výtvarném oboru – vyhlášení vítězů a předání cen na náměstí v cca 14:30\, autorský muzikál paní Hany Brychové\, hudební vystoupení na náměstí\, veřejná zkouška pěveckého sboru Kamínek a další….
URL:https://www.zusck.cz/udalost/den-otevrenych-dveri/
LOCATION:Základní umělecká škola Česká Kamenice\, Komenského 481\, Česká Kamenice\, Česká republika
ATTACH;FMTTYPE=image/jpeg:https://www.zusck.cz/wp-content/uploads/2023/01/Kraslice.jpeg
END:VEVENT
BEGIN:VEVENT
DTSTART;TZID=Europe/Prague:20230323T140000
DTEND;TZID=Europe/Prague:20230323T170000
DTSTAMP:20260425T175645
CREATED:20230111T085116Z
LAST-MODIFIED:20230111T085117Z
UID:2116-1679580000-1679590800@www.zusck.cz
SUMMARY:Skleněný slavíček
DESCRIPTION:Pěvecká soutěž vypisovaná Městem Kamenický Šenov.
URL:https://www.zusck.cz/udalost/skleneny-slavicek/
LOCATION:Kino Hvězda Kamenický Šenov\, Osvobození 766\, Kamenický Šenov\, Liberecký kraj\, 47114\, Česká republika
ATTACH;FMTTYPE=image/jpeg:https://www.zusck.cz/wp-content/uploads/2023/01/slavicek.jpg
END:VEVENT
BEGIN:VEVENT
DTSTART;TZID=Europe/Prague:20230314T090000
DTEND;TZID=Europe/Prague:20230314T120000
DTSTAMP:20260425T175645
CREATED:20230111T085453Z
LAST-MODIFIED:20230111T085454Z
UID:2121-1678784400-1678795200@www.zusck.cz
SUMMARY:Karlovarský skřivánek
DESCRIPTION:Tradiční pěvecká soutěž – okresní kolo v Novém Boru.
URL:https://www.zusck.cz/udalost/karlovarsky-skrivanek/
LOCATION:Ústecký kraj
ATTACH;FMTTYPE=image/jpeg:https://www.zusck.cz/wp-content/uploads/2023/01/skrivanek.jpg
END:VEVENT
BEGIN:VEVENT
DTSTART;TZID=Europe/Prague:20230124T163000
DTEND;TZID=Europe/Prague:20230124T180000
DTSTAMP:20260425T175645
CREATED:20230111T090041Z
LAST-MODIFIED:20230111T090041Z
UID:2126-1674577800-1674583200@www.zusck.cz
SUMMARY:Koncert kapel
DESCRIPTION:Samostatný koncert kapel Duhová nota\, Zušáci a Hraje to !
URL:https://www.zusck.cz/udalost/koncert-kapel/
LOCATION:Dům kultury Česká Kamenice\, Komenského 288\, Česká Kamenice\, Ústecký kraj\, 40721\, Česká republika
ATTACH;FMTTYPE=image/png:https://www.zusck.cz/wp-content/uploads/2023/01/kapely-1.png
ORGANIZER;CN="Z%C3%A1kladn%C3%AD um%C4%9Bleck%C3%A1 %C5%A1kola %C4%8Cesk%C3%A1 Kamenice":MAILTO:zus@zusck.cz
END:VEVENT
BEGIN:VEVENT
DTSTART;TZID=Europe/Prague:20220616T170000
DTEND;TZID=Europe/Prague:20220616T180000
DTSTAMP:20260425T175645
CREATED:20220517T074002Z
LAST-MODIFIED:20220517T074003Z
UID:1645-1655398800-1655402400@www.zusck.cz
SUMMARY:Absolventská výstava
DESCRIPTION:Výstava absolventských prací žáků výtvarného oboru. V hudební části uslyšíte absolventku druhého cyklu\, klavíristku Šárku Zezulovou.
URL:https://www.zusck.cz/udalost/absolventska-vystava/
LOCATION:Informační centrum Česká Kamenice\, nám. Míru 122\, Česká Kamenice\, Ústecký kraj\, 40721\, Česká republika
END:VEVENT
BEGIN:VEVENT
DTSTART;TZID=Europe/Prague:20220615T163000
DTEND;TZID=Europe/Prague:20220615T180000
DTSTAMP:20260425T175645
CREATED:20220517T073505Z
LAST-MODIFIED:20220517T080444Z
UID:1642-1655310600-1655316000@www.zusck.cz
SUMMARY:Absolventský koncert
DESCRIPTION:Absolventský koncert žákyň pěveckého a klavírního oddělení.
URL:https://www.zusck.cz/udalost/absolventsky-koncert/
LOCATION:Dům kultury Česká Kamenice\, Komenského 288\, Česká Kamenice\, Ústecký kraj\, 40721\, Česká republika
ATTACH;FMTTYPE=image/jpeg:https://www.zusck.cz/wp-content/uploads/2022/05/IMG_1891-scaled.jpg
END:VEVENT
BEGIN:VEVENT
DTSTART;TZID=Europe/Prague:20220611T080000
DTEND;TZID=Europe/Prague:20220613T170000
DTSTAMP:20260425T175645
CREATED:20220517T072704Z
LAST-MODIFIED:20220517T072705Z
UID:1634-1654934400-1655139600@www.zusck.cz
SUMMARY:Soustředění VO a TO
DESCRIPTION:Soustředění žáků tanečního a výtvarného oboru v Prysku – propojení práce obou oborů.
URL:https://www.zusck.cz/udalost/soustredeni-vo-a-to/
LOCATION:Ústecký kraj
END:VEVENT
BEGIN:VEVENT
DTSTART;TZID=Europe/Prague:20220610T183000
DTEND;TZID=Europe/Prague:20220610T190000
DTSTAMP:20260425T175645
CREATED:20220517T071921Z
LAST-MODIFIED:20220517T072418Z
UID:1622-1654885800-1654887600@www.zusck.cz
SUMMARY:Noc kostelů v Markvarticích
DESCRIPTION:Vystoupení žáků zuš.
URL:https://www.zusck.cz/udalost/noc-kostelu-v-markvarticich/
LOCATION:50°46’59.495″N\, 14°22’7.519″E
ATTACH;FMTTYPE=image/jpeg:https://www.zusck.cz/wp-content/uploads/2022/05/kostel.jpg
END:VEVENT
END:VCALENDAR