BEGIN:VCALENDAR
VERSION:2.0
PRODID:-//Základní umělecká škola Česká Kamenice - ECPv6.15.13.1//NONSGML v1.0//EN
CALSCALE:GREGORIAN
METHOD:PUBLISH
X-WR-CALNAME:Základní umělecká škola Česká Kamenice
X-ORIGINAL-URL:https://www.zusck.cz
X-WR-CALDESC:Akce na Základní umělecká škola Česká Kamenice
REFRESH-INTERVAL;VALUE=DURATION:PT1H
X-Robots-Tag:noindex
X-PUBLISHED-TTL:PT1H
BEGIN:VTIMEZONE
TZID:Europe/Prague
BEGIN:DAYLIGHT
TZOFFSETFROM:+0100
TZOFFSETTO:+0200
TZNAME:CEST
DTSTART:20210328T010000
END:DAYLIGHT
BEGIN:STANDARD
TZOFFSETFROM:+0200
TZOFFSETTO:+0100
TZNAME:CET
DTSTART:20211031T010000
END:STANDARD
BEGIN:DAYLIGHT
TZOFFSETFROM:+0100
TZOFFSETTO:+0200
TZNAME:CEST
DTSTART:20220327T010000
END:DAYLIGHT
BEGIN:STANDARD
TZOFFSETFROM:+0200
TZOFFSETTO:+0100
TZNAME:CET
DTSTART:20221030T010000
END:STANDARD
BEGIN:DAYLIGHT
TZOFFSETFROM:+0100
TZOFFSETTO:+0200
TZNAME:CEST
DTSTART:20230326T010000
END:DAYLIGHT
BEGIN:STANDARD
TZOFFSETFROM:+0200
TZOFFSETTO:+0100
TZNAME:CET
DTSTART:20231029T010000
END:STANDARD
END:VTIMEZONE
BEGIN:VEVENT
DTSTART;TZID=Europe/Prague:20220511T170000
DTEND;TZID=Europe/Prague:20220511T180000
DTSTAMP:20260426T014320
CREATED:20220504T082942Z
LAST-MODIFIED:20220504T125950Z
UID:1472-1652288400-1652292000@www.zusck.cz
SUMMARY:Vernisáž vítězných prací Českokamenicko očima mladého výtvarníka
DESCRIPTION:
URL:https://www.zusck.cz/udalost/vernisaz-viteznych-praci-ceskokamenicko-ocima-mladeho-vytvarnika/
LOCATION:Městská knihovna Česká Kamenice\, Komenského 481\, Česká Kamenice\, Ústecký kraj\, 40721\, Česká republika
CATEGORIES:vernisáž,výstava
ATTACH;FMTTYPE=image/jpeg:https://www.zusck.cz/wp-content/uploads/2022/04/278830882_3332556236972196_3431778597966791808_n-1-e1651667821294.jpg
ORGANIZER;CN="Z%C3%A1kladn%C3%AD um%C4%9Bleck%C3%A1 %C5%A1kola %C4%8Cesk%C3%A1 Kamenice":MAILTO:zus@zusck.cz
END:VEVENT
BEGIN:VEVENT
DTSTART;TZID=Europe/Prague:20220503T170000
DTEND;TZID=Europe/Prague:20220503T180000
DTSTAMP:20260426T014320
CREATED:20220504T084442Z
LAST-MODIFIED:20220504T084442Z
UID:1474-1651597200-1651600800@www.zusck.cz
SUMMARY:Vernisáž výstavy žáků výtvarného oboru
DESCRIPTION:Výstava prací žáků výtvarného oboru.
URL:https://www.zusck.cz/udalost/vernisaz-vystavy-zaku-vytvarneho-oboru/
LOCATION:Informační centrum Česká Kamenice\, nám. Míru 122\, Česká Kamenice\, Ústecký kraj\, 40721\, Česká republika
CATEGORIES:vernisáž,výstava
ATTACH;FMTTYPE=image/jpeg:https://www.zusck.cz/wp-content/uploads/2022/04/278856312_3332884190272734_3321450073375255896_n-1.jpg
ORGANIZER;CN="Z%C3%A1kladn%C3%AD um%C4%9Bleck%C3%A1 %C5%A1kola %C4%8Cesk%C3%A1 Kamenice":MAILTO:zus@zusck.cz
END:VEVENT
END:VCALENDAR